BEGIN:VCALENDAR
VERSION:2.0
PRODID:-//Equality Toledo - ECPv6.15.20//NONSGML v1.0//EN
CALSCALE:GREGORIAN
METHOD:PUBLISH
X-WR-CALNAME:Equality Toledo
X-ORIGINAL-URL:https://equalitytoledo.org
X-WR-CALDESC:Events for Equality Toledo
REFRESH-INTERVAL;VALUE=DURATION:PT1H
X-Robots-Tag:noindex
X-PUBLISHED-TTL:PT1H
BEGIN:VTIMEZONE
TZID:UTC
BEGIN:STANDARD
TZOFFSETFROM:+0000
TZOFFSETTO:+0000
TZNAME:UTC
DTSTART:20240101T000000
END:STANDARD
END:VTIMEZONE
BEGIN:VEVENT
DTSTART;TZID=UTC:20250608T090000
DTEND;TZID=UTC:20250608T130000
DTSTAMP:20260422T022613
CREATED:20250606T162539Z
LAST-MODIFIED:20250606T162539Z
UID:10000063-1749373200-1749387600@equalitytoledo.org
SUMMARY:Walk with Equality Toledo at the OWE Fest Parade
DESCRIPTION:Join us in the OWE Parade!\nCheck in: 8:30-9:45 am\nStep-off: 10 a.m.\n\nStaging is first come first served\, so the sooner you arrive at check in\, the closer to the front of the parade you will be.\nParade Route: The parade route is 1.8 miles long and begins near Glenwood Elementary (Robinwood and Collins).\nCheck In Location: Corner of Nesslewood and Robinwood Avenues\, adjacent to Glenwood Elementary School. Turn on Nesslewood from Detroit Ave. Look for signage.
URL:https://equalitytoledo.org/event/owe/
LOCATION:OWE Parade\, 2860 Glenwood Ave\, Toledo\, 43610\, United States
ATTACH;FMTTYPE=image/jpeg:https://equalitytoledo.org/wp-content/uploads/2025/06/500735433_1018254637105677_4921768085344509075_n.jpg
END:VEVENT
END:VCALENDAR