BEGIN:VCALENDAR
VERSION:2.0
PRODID:-//Equality Toledo - ECPv6.15.20//NONSGML v1.0//EN
CALSCALE:GREGORIAN
METHOD:PUBLISH
X-WR-CALNAME:Equality Toledo
X-ORIGINAL-URL:https://equalitytoledo.org
X-WR-CALDESC:Events for Equality Toledo
REFRESH-INTERVAL;VALUE=DURATION:PT1H
X-Robots-Tag:noindex
X-PUBLISHED-TTL:PT1H
BEGIN:VTIMEZONE
TZID:UTC
BEGIN:STANDARD
TZOFFSETFROM:+0000
TZOFFSETTO:+0000
TZNAME:UTC
DTSTART:20240101T000000
END:STANDARD
END:VTIMEZONE
BEGIN:VEVENT
DTSTART;TZID=UTC:20250821T190000
DTEND;TZID=UTC:20250821T210000
DTSTAMP:20260422T051805
CREATED:20250814T175752Z
LAST-MODIFIED:20250814T175752Z
UID:10000066-1755802800-1755810000@equalitytoledo.org
SUMMARY:Multi-Faith Pride Worship
DESCRIPTION:Join us for a beautiful evening of singing\, reflection\, and celebration. This unique event brings together people from diverse faith traditions to honor and celebrate the LGBTQ+ community through unity\, love\, and shared humanity.\nWe are asking that all participants register for this event. You can do so by following this link:\nhttps://form.jotform.com/251414588714057\nWhether you come from a particular faith tradition or believe in the power of love and unity\, this event is for everyone who wishes to celebrate Pride in an inclusive and supportive environment.\nCome together in solidarity and joy as we celebrate the beauty of diversity and the strength of unity. We look forward to sharing this special evening with you!
URL:https://equalitytoledo.org/event/multi-faith-pride-worship/
LOCATION:6453 W Sylvania Ave\, 6453 W Sylvani Ave\, Sylvania\, 43560\, United States
END:VEVENT
END:VCALENDAR