BEGIN:VCALENDAR
VERSION:2.0
PRODID:-//Equality Toledo - ECPv6.15.20//NONSGML v1.0//EN
CALSCALE:GREGORIAN
METHOD:PUBLISH
X-WR-CALNAME:Equality Toledo
X-ORIGINAL-URL:https://equalitytoledo.org
X-WR-CALDESC:Events for Equality Toledo
REFRESH-INTERVAL;VALUE=DURATION:PT1H
X-Robots-Tag:noindex
X-PUBLISHED-TTL:PT1H
BEGIN:VTIMEZONE
TZID:UTC
BEGIN:STANDARD
TZOFFSETFROM:+0000
TZOFFSETTO:+0000
TZNAME:UTC
DTSTART:20220101T000000
END:STANDARD
END:VTIMEZONE
BEGIN:VEVENT
DTSTART;TZID=UTC:20230930T140000
DTEND;TZID=UTC:20230930T190000
DTSTAMP:20260425T134704
CREATED:20230830T193009Z
LAST-MODIFIED:20230926T161225Z
UID:10000005-1696082400-1696100400@equalitytoledo.org
SUMMARY:2023 Trans and Thriving Festival
DESCRIPTION:Trans and Thriving Festival\nSeptember 30\, 2023 2-7pm\nUptown Green – 1904 Madison Ave\, Toledo OH \nJoin us for a fun-filled\, family-friendly day of celebration \nAt the Trans and Thriving festival\, we will have a bunch of vendors for you to check out. Health and Wellness vendors\, art vendors\, and everything in between. In addition to the vendors\, we will also have food and beverage trucks for you to enjoy. \nWe will have speakers from community organizations and performances throughout the day. \nWe will also have a memorial board for you to bring pictures and notes to remember loved ones we have lost. \nIf you are interested in being a vendor or performing\, please email info@equalitytoledo.org \n×Become a Vendor\nCOMMUNITY CONNECTION & VENDOR\nEVENT:Saturday\, September 30\, 2023LOCATION: Uptown Green – 1904 Madison Ave\, Toledo OH \nThank you for your interest in participating in Equality Toledo. Please see the attached information regarding community organization and vendor booth registration and set-up. \nSpace/Booth Details\nNo structure may exceed 15’ in height. You may provide any tent or booth structure as long as it falls within the City of Toledo safety guidelines and fits within the space you have rented. Your tent must be weighted and secured 40 pounds per leg. EQUALITY TOLEDO does not supply tables and chairs UNLESS PREVIOUS ARRANGMENTS ARE MADE. Equality Toledo has final determination over the placement of all booths within designated location. Please note this event is a gated event meaning that you must carry in and carry out any of your supplies; no cars are allowed in the event. Please bring handcarts\, if needed. We recognize that not all are able to do this and if so\, this event may not be for you.  NO FOOD OR DRINK CAN BE SOLD OR DISTRIBUTED FROM BOOTHS DUE TO HEALTH DEPARTMENT REGULATIONS. (pre-packaged candy is acceptable) \nPower\nElectricity is NOT available for community or vendor booths. You may bring your own battery power equipment. Gas-powered generators are not permitted due to noise and fume emissions. \nNoise\nWe love music however\, as a courtesy to other exhibitors\, Equality Toledo reserves the right to limit amplified sound from your booth. \nSpecial Requests\nAll special requests must be included in this application\, please add additional paper if necessary. Late requests have no guarantee of accommodation. \nCancellations\nYou may cancel your booth application at any time prior to the stated application deadline of Thursday\, August 1\, 2022 and receive a full refund. Cancellations made after the stated deadline will not be refunded. \nFor All Registrants\nThis agreement affirms that you the applicant—and the business or organization you represent—recognize and affirm the mission of Equality Toledo works to eliminate discrimination in our region on the basis of sexual orientation\, gender identity and gender expression\, through education\, activism and other anti-defamation efforts. \nSignature of this agreement also affirms that you the applicant—and the business or organization you represent—do not engage in discriminatory practices in hiring\, employment\, participation\, or services rendered based on the fact or perception of a person’s race\, color\, creed\, religion\, national origin\, ancestry\, sex\, sexual orientation\, gender identity\, domestic partner status\, disability or Acquired Immune Deficiency Syndrome or HIV Status. Business/Organization Name *Business/Organization WebsiteContact First NameContact Last NameStreet Address *Apartment\, suite\, etcCity *State *ZIP / Postal Code *Phone *Email AddressWill you have a kids activity?Please select an optionYesNoWill you be an info booth or selling merchandise? *Please select an optionInformation BoothMerchant BoothIf you are a merchant\, upload your vendor license now or bring a copy with you to check-in.Choose FileNo file chosenDelete uploaded fileConsent *If space is left with garbage\, debris\, tent weights\, etc. your business will be liable for a $50 fee. I understand that there will not be chairs or tables provided and that I am aware I must carry in and carry out any of your supplies; no cars are allowed in the event. Please bring handcards\, if needed.   Send Message\nClose×Become a Sponsor\n\nCloseBecome a SponsorBecome a Vendor
URL:https://equalitytoledo.org/event/2023-trans-and-thriving-festival/
LOCATION:Uptown Green\, 1904 Madison Ave\, Toledo OH\, Toledo\, OH\, 43604\, United States
CATEGORIES:Featured
ATTACH;FMTTYPE=image/jpeg:https://equalitytoledo.org/wp-content/uploads/2023/08/368241378_619580406973104_6302848846241650122_n.jpeg
END:VEVENT
END:VCALENDAR