BEGIN:VCALENDAR
VERSION:2.0
PRODID:-//Equality Toledo - ECPv6.15.20//NONSGML v1.0//EN
CALSCALE:GREGORIAN
METHOD:PUBLISH
X-ORIGINAL-URL:https://equalitytoledo.org
X-WR-CALDESC:Events for Equality Toledo
REFRESH-INTERVAL;VALUE=DURATION:PT1H
X-Robots-Tag:noindex
X-PUBLISHED-TTL:PT1H
BEGIN:VTIMEZONE
TZID:America/Detroit
BEGIN:DAYLIGHT
TZOFFSETFROM:-0500
TZOFFSETTO:-0400
TZNAME:EDT
DTSTART:20230312T070000
END:DAYLIGHT
BEGIN:STANDARD
TZOFFSETFROM:-0400
TZOFFSETTO:-0500
TZNAME:EST
DTSTART:20231105T060000
END:STANDARD
BEGIN:DAYLIGHT
TZOFFSETFROM:-0500
TZOFFSETTO:-0400
TZNAME:EDT
DTSTART:20240310T070000
END:DAYLIGHT
BEGIN:STANDARD
TZOFFSETFROM:-0400
TZOFFSETTO:-0500
TZNAME:EST
DTSTART:20241103T060000
END:STANDARD
BEGIN:DAYLIGHT
TZOFFSETFROM:-0500
TZOFFSETTO:-0400
TZNAME:EDT
DTSTART:20250309T070000
END:DAYLIGHT
BEGIN:STANDARD
TZOFFSETFROM:-0400
TZOFFSETTO:-0500
TZNAME:EST
DTSTART:20251102T060000
END:STANDARD
END:VTIMEZONE
BEGIN:VEVENT
DTSTART;TZID=America/Detroit:20240713T150000
DTEND;TZID=America/Detroit:20240714T010000
DTSTAMP:20260424T200856
CREATED:20240213T213943Z
LAST-MODIFIED:20240213T213943Z
UID:10000044-1720882800-1720918800@equalitytoledo.org
SUMMARY:Equality Toledo Loves Love Fest 2024
DESCRIPTION:Mark your calendars! Love Fest returns this summer on July 13th!\n\nCome and experience an enchanting evening filled with live local entertainment\, featuring bands\, drag performers\, theater companies\, DJs\, and more\, all against the backdrop of Toledo’s iconic LOVE WALL!\nYour $5 contribution upon entry supports Equality Toledo’s continuous efforts in education\, activism\, and anti-defamation initiatives\, working towards the eradication of discrimination in our region based on sexual orientation\, gender identity\, and gender expression.\n\nIndividuals under 18 are welcome with a parent or legal guardian. Please note that some bands/performers may use explicit language during their acts. We look forward to welcoming you!
URL:https://equalitytoledo.org/event/equality-toledo-loves-love-fest-2024/
LOCATION:Love Wall\, 1209 Adams St\, Toledo\, OH\, 43604\, United States
CATEGORIES:Featured
ATTACH;FMTTYPE=image/jpeg:https://equalitytoledo.org/wp-content/uploads/2024/02/Lovefest-scaled.jpeg
END:VEVENT
END:VCALENDAR