BEGIN:VCALENDAR
VERSION:2.0
PRODID:-//Equality Toledo - ECPv6.15.20//NONSGML v1.0//EN
CALSCALE:GREGORIAN
METHOD:PUBLISH
X-ORIGINAL-URL:https://equalitytoledo.org
X-WR-CALDESC:Events for Equality Toledo
REFRESH-INTERVAL;VALUE=DURATION:PT1H
X-Robots-Tag:noindex
X-PUBLISHED-TTL:PT1H
BEGIN:VTIMEZONE
TZID:America/Detroit
BEGIN:DAYLIGHT
TZOFFSETFROM:-0500
TZOFFSETTO:-0400
TZNAME:EDT
DTSTART:20230312T070000
END:DAYLIGHT
BEGIN:STANDARD
TZOFFSETFROM:-0400
TZOFFSETTO:-0500
TZNAME:EST
DTSTART:20231105T060000
END:STANDARD
BEGIN:DAYLIGHT
TZOFFSETFROM:-0500
TZOFFSETTO:-0400
TZNAME:EDT
DTSTART:20240310T070000
END:DAYLIGHT
BEGIN:STANDARD
TZOFFSETFROM:-0400
TZOFFSETTO:-0500
TZNAME:EST
DTSTART:20241103T060000
END:STANDARD
BEGIN:DAYLIGHT
TZOFFSETFROM:-0500
TZOFFSETTO:-0400
TZNAME:EDT
DTSTART:20250309T070000
END:DAYLIGHT
BEGIN:STANDARD
TZOFFSETFROM:-0400
TZOFFSETTO:-0500
TZNAME:EST
DTSTART:20251102T060000
END:STANDARD
END:VTIMEZONE
BEGIN:VEVENT
DTSTART;TZID=America/Detroit:20240217T180000
DTEND;TZID=America/Detroit:20240217T203000
DTSTAMP:20260425T040633
CREATED:20240213T212805Z
LAST-MODIFIED:20240213T212805Z
UID:10000041-1708192800-1708201800@equalitytoledo.org
SUMMARY:LGBTQ Black Excellence Mixer
DESCRIPTION:This Black History Month\, Equality Toledo invites you to an unforgettable evening celebrating Black Queer Excellence. The event is scheduled for Saturday\, February 17th\, starting at 6:00 PM at Golden Hind.\nThe night promises to be a fusion of inspiration\, empowerment\, and entertainment. Attendees will have the opportunity to hear from inspiring speakers discussing the theme of Black Excellence\, setting the tone for an evening dedicated to uplifting voices within the Black queer community.\nThe festivities will continue with a lively dance session featuring the beats of DJ Savanna\, ensuring a night of celebration and unity. Guests can also indulge in complimentary appetizers and enjoy a cash bar throughout the event.\n\nThis year’s honorees include remarkable individuals who have made significant contributions to the community:\n\n• Kevin Jewell\n• Tee Lucci\n• Gizelle DeVaux\n• Lisa Marie\n• Ericka Taylor\n\nThe event will be hosted by the charismatic Anthony Solo Jackson\, adding an extra layer of energy and enthusiasm to the celebration.\n\n“It’s Black History Month\, and it’s time to celebrate! Having the opportunity to honor and celebrate the achievements of those in the queer community is a true honor\,” says Scot Henshaw\, Board Chair.\nMark your calendars\, get ready to showcase your best outfit\, and join us for an evening dedicated to recognizing and celebrating Black Queer Excellence.\n\nFor media inquiries\, please contact:\nBrent Rabie\nDeputy Director\ninfo@equalitytoledo.org
URL:https://equalitytoledo.org/event/lgbtq-black-excellence-mixer/
LOCATION:Golden Hind Wine Bar\, 915 N. Summit St Suite 101\, Toledo\, 43604\, United States
CATEGORIES:Featured
ATTACH;FMTTYPE=image/jpeg:https://equalitytoledo.org/wp-content/uploads/2024/02/Black-Excellence.jpeg
END:VEVENT
END:VCALENDAR