BEGIN:VCALENDAR
VERSION:2.0
PRODID:-//Equality Toledo - ECPv6.15.20//NONSGML v1.0//EN
CALSCALE:GREGORIAN
METHOD:PUBLISH
X-WR-CALNAME:Equality Toledo
X-ORIGINAL-URL:https://equalitytoledo.org
X-WR-CALDESC:Events for Equality Toledo
REFRESH-INTERVAL;VALUE=DURATION:PT1H
X-Robots-Tag:noindex
X-PUBLISHED-TTL:PT1H
BEGIN:VTIMEZONE
TZID:UTC
BEGIN:STANDARD
TZOFFSETFROM:+0000
TZOFFSETTO:+0000
TZNAME:UTC
DTSTART:20240101T000000
END:STANDARD
END:VTIMEZONE
BEGIN:VEVENT
DTSTART;TZID=UTC:20250928T140000
DTEND;TZID=UTC:20250928T170000
DTSTAMP:20260423T070023
CREATED:20250917T141258Z
LAST-MODIFIED:20250917T141258Z
UID:10000069-1759068000-1759078800@equalitytoledo.org
SUMMARY:Equality Toledo September Kickball
DESCRIPTION:It’s time to lace up those sneakers and get your game face on… Equality Toledo is bringing back our Kickball Tournament! \n\nWhen: Saturday\, September 28\, 2025\, at 2:00 PMWhere: Scott Park Rec Fields\n\nBring a team OR join one when you arrive\, either way\, you’re guaranteed laughs\, community\, and a little healthy competition.\nSign up today by scanning the QR code or clicking the link below! Don’t wait\, click it!\nhttps://forms.office.com/r/EeWyGtgHxj\n\nWhether you’re a kickball pro or just here for the fun\, this is the perfect way to support Equality Toledo and connect with amazing people.
URL:https://equalitytoledo.org/event/equality-toledo-september-kickball/
LOCATION:Scott Park Rec Fields\, 2225 Nebraska Ave.\, Toledo\, OH\, 43607\, United States
ATTACH;FMTTYPE=image/jpeg:https://equalitytoledo.org/wp-content/uploads/2025/09/548187624_1103342205263586_981479842821718563_n.jpg
END:VEVENT
END:VCALENDAR