BEGIN:VCALENDAR
VERSION:2.0
PRODID:-//Equality Toledo - ECPv6.15.20//NONSGML v1.0//EN
CALSCALE:GREGORIAN
METHOD:PUBLISH
X-WR-CALNAME:Equality Toledo
X-ORIGINAL-URL:https://equalitytoledo.org
X-WR-CALDESC:Events for Equality Toledo
REFRESH-INTERVAL;VALUE=DURATION:PT1H
X-Robots-Tag:noindex
X-PUBLISHED-TTL:PT1H
BEGIN:VTIMEZONE
TZID:UTC
BEGIN:STANDARD
TZOFFSETFROM:+0000
TZOFFSETTO:+0000
TZNAME:UTC
DTSTART:20230101T000000
END:STANDARD
END:VTIMEZONE
BEGIN:VEVENT
DTSTART;TZID=UTC:20240824T093000
DTEND;TZID=UTC:20240824T133000
DTSTAMP:20260420T011518
CREATED:20240819T124043Z
LAST-MODIFIED:20240819T124043Z
UID:10000050-1724491800-1724506200@equalitytoledo.org
SUMMARY:Walk with us at Toledo Pride!
DESCRIPTION:Join Equality Toledo in celebrating diversity\, inclusion\, and love at the Toledo Pride Parade on Saturday\, August 24th! We’re excited to have our very own Equality Toledo Pride Float\, and we invite you to walk with us in the parade.\nCheck-in will be at 20th & Adams St\, near the Ottawa Tavern parking lot. Registration starts at 9:30 a.m.\, and we ask all participants to arrive no later than 11:00 a.m. The parade will kick off at noon\, starting at 17th & Adams and making its way down to Summit St.\nPrepare for the weather\, and don’t worry—we’ll have water available at the start and end of the parade. If you’re interested in joining us\, please email info@equalitytoledo.org to receive more information.\nLet’s make this year’s Toledo Pride Parade unforgettable!
URL:https://equalitytoledo.org/event/walk-with-us-at-toledo-pride/
ATTACH;FMTTYPE=image/jpeg:https://equalitytoledo.org/wp-content/uploads/2024/08/455240729_819927216938421_6227044405232145292_n.jpg
END:VEVENT
END:VCALENDAR